BEGIN:VCALENDAR
VERSION:2.0
PRODID:-//GAFT Sports - ECPv6.15.17.1//NONSGML v1.0//EN
CALSCALE:GREGORIAN
METHOD:PUBLISH
X-WR-CALNAME:GAFT Sports
X-ORIGINAL-URL:https://gaftsports.com
X-WR-CALDESC:Eventos para GAFT Sports
REFRESH-INTERVAL;VALUE=DURATION:PT1H
X-Robots-Tag:noindex
X-PUBLISHED-TTL:PT1H
BEGIN:VTIMEZONE
TZID:UTC
BEGIN:STANDARD
TZOFFSETFROM:+0000
TZOFFSETTO:+0000
TZNAME:UTC
DTSTART:20250101T000000
END:STANDARD
END:VTIMEZONE
BEGIN:VEVENT
DTSTART;TZID=UTC:20260121T180000
DTEND;TZID=UTC:20260131T210000
DTSTAMP:20260420T005510
CREATED:20251226T201534Z
LAST-MODIFIED:20251226T212331Z
UID:47029-1769018400-1769893200@gaftsports.com
SUMMARY:RUANDA — CAN ANDEBOL 2026
DESCRIPTION:Ruanda 2026: rumo à 27ª Copa Africana das Nações de Handebol Masculino Sênior \nA contagem regressiva começou! \nA 27ª CAN será realizada de 21 a 31 de janeiro de 2026\, em Kigali\, Ruanda\, sob a égide da Confederação Africana de Handebol (CAHB). Esta edição promete uma competição emocionante\, reunindo as melhores seleções do continente para uma nova batalha no topo do handebol africano. \nPara além do desafio esportivo\, Ruanda 2026 será uma grande festa marcada pela paixão\, pelo desempenho e pela união. Todos os olhares estarão voltados para Kigali\, onde talento\, intensidade e fortes emoções se encontrarão. A CAHB convida todas as nações\, parceiros e fãs do handebol a se mobilizarem para este grande evento continental. \nEncontro marcado de 21 a 31 de janeiro de 2026 para escrever uma nova página da história do handebol africano!
URL:https://gaftsports.com/event/ruanda-can-andebol-2026/
CATEGORIES:Futebol
ATTACH;FMTTYPE=image/jpeg:https://gaftsports.com/wp-content/uploads/2025/11/RUANDA-2026.jpg
END:VEVENT
END:VCALENDAR